BEGIN:VCALENDAR
VERSION:2.0
PRODID:-//ATCM - ECPv5.0.1//NONSGML v1.0//EN
CALSCALE:GREGORIAN
METHOD:PUBLISH
X-WR-CALNAME:ATCM
X-ORIGINAL-URL:https://atcm.cbtechmz.com
X-WR-CALDESC:Events for ATCM
BEGIN:VTIMEZONE
TZID:UTC
BEGIN:STANDARD
TZOFFSETFROM:+0000
TZOFFSETTO:+0000
TZNAME:UTC
DTSTART:20200101T000000
END:STANDARD
END:VTIMEZONE
BEGIN:VEVENT
DTSTART;TZID=UTC:20200321T080000
DTEND;TZID=UTC:20200321T170000
DTSTAMP:20260423T154609
CREATED:20200216T111516Z
LAST-MODIFIED:20200216T162629Z
UID:1063-1584777600-1584810000@atcm.cbtechmz.com
SUMMARY:KARTS - 1a Prova
DESCRIPTION:\n\n\n1a Prova Campeonato de Karting – ATCM – FIA \n\n\n\n\n\n\n\n\n\n\n	\n		Share This Story\, Choose Your Platform!\n		FacebookTwitterLinkedInRedditWhatsappTumblrPinterestVkEmail	\n	
URL:https://atcm.cbtechmz.com/event/karts-1/
ATTACH;FMTTYPE=image/jpeg:https://atcm.cbtechmz.com/wp-content/uploads/2020/02/DSC_2047_2048px.jpg
END:VEVENT
END:VCALENDAR