BEGIN:VCALENDAR
VERSION:2.0
PRODID:-//ATCM - ECPv5.0.1//NONSGML v1.0//EN
CALSCALE:GREGORIAN
METHOD:PUBLISH
X-WR-CALNAME:ATCM
X-ORIGINAL-URL:https://atcm.cbtechmz.com
X-WR-CALDESC:Events for ATCM
BEGIN:VTIMEZONE
TZID:UTC
BEGIN:STANDARD
TZOFFSETFROM:+0000
TZOFFSETTO:+0000
TZNAME:UTC
DTSTART:20200101T000000
END:STANDARD
END:VTIMEZONE
BEGIN:VEVENT
DTSTART;TZID=UTC:20200426T080000
DTEND;TZID=UTC:20200426T170000
DTSTAMP:20260423T161150
CREATED:20200216T113434Z
LAST-MODIFIED:20200216T163926Z
UID:1071-1587888000-1587920400@atcm.cbtechmz.com
SUMMARY:PICANTO CUP - 2a Prova
DESCRIPTION:\n\n\n2a Prova PicantoCup – ATCM – FIA \n\n\n\n\n\n\n\n\n\n\n	\n		Share This Story\, Choose Your Platform!\n		FacebookTwitterLinkedInRedditWhatsappTumblrPinterestVkEmail	\n	
URL:https://atcm.cbtechmz.com/event/picanto-cup-2a-prova/
ATTACH;FMTTYPE=image/jpeg:https://atcm.cbtechmz.com/wp-content/uploads/2020/02/DOT1585_2048px.jpg
END:VEVENT
END:VCALENDAR