BEGIN:VCALENDAR
VERSION:2.0
PRODID:-//ATCM - ECPv5.0.1//NONSGML v1.0//EN
CALSCALE:GREGORIAN
METHOD:PUBLISH
X-WR-CALNAME:ATCM
X-ORIGINAL-URL:https://atcm.cbtechmz.com
X-WR-CALDESC:Events for ATCM
BEGIN:VTIMEZONE
TZID:UTC
BEGIN:STANDARD
TZOFFSETFROM:+0000
TZOFFSETTO:+0000
TZNAME:UTC
DTSTART:20200101T000000
END:STANDARD
END:VTIMEZONE
BEGIN:VEVENT
DTSTART;TZID=UTC:20200531T080000
DTEND;TZID=UTC:20200531T170000
DTSTAMP:20260423T175525
CREATED:20200216T131626Z
LAST-MODIFIED:20200216T131629Z
UID:1101-1590912000-1590944400@atcm.cbtechmz.com
SUMMARY:PICANTO CUP - 3a Prova
DESCRIPTION:\n\n\n3a Prova PicantoCup – ATCM – FIA \n\n\n\n\n\n\n\n\n\n\n	\n		Share This Story\, Choose Your Platform!\n		FacebookTwitterLinkedInRedditWhatsappTumblrPinterestVkEmail	\n	
URL:https://atcm.cbtechmz.com/event/picanto-cup-3a-prova/
END:VEVENT
END:VCALENDAR